BEGIN:VCALENDAR
VERSION:2.0
PRODID:-//FREIRAUM - ECPv6.15.18//NONSGML v1.0//EN
CALSCALE:GREGORIAN
METHOD:PUBLISH
X-WR-CALNAME:FREIRAUM
X-ORIGINAL-URL:https://www.freiraum-balingen.de
X-WR-CALDESC:Veranstaltungen für FREIRAUM
REFRESH-INTERVAL;VALUE=DURATION:PT1H
X-Robots-Tag:noindex
X-PUBLISHED-TTL:PT1H
BEGIN:VTIMEZONE
TZID:Europe/Berlin
BEGIN:DAYLIGHT
TZOFFSETFROM:+0100
TZOFFSETTO:+0200
TZNAME:CEST
DTSTART:20250330T010000
END:DAYLIGHT
BEGIN:STANDARD
TZOFFSETFROM:+0200
TZOFFSETTO:+0100
TZNAME:CET
DTSTART:20251026T010000
END:STANDARD
BEGIN:DAYLIGHT
TZOFFSETFROM:+0100
TZOFFSETTO:+0200
TZNAME:CEST
DTSTART:20260329T010000
END:DAYLIGHT
BEGIN:STANDARD
TZOFFSETFROM:+0200
TZOFFSETTO:+0100
TZNAME:CET
DTSTART:20261025T010000
END:STANDARD
BEGIN:DAYLIGHT
TZOFFSETFROM:+0100
TZOFFSETTO:+0200
TZNAME:CEST
DTSTART:20270328T010000
END:DAYLIGHT
BEGIN:STANDARD
TZOFFSETFROM:+0200
TZOFFSETTO:+0100
TZNAME:CET
DTSTART:20271031T010000
END:STANDARD
END:VTIMEZONE
BEGIN:VEVENT
DTSTART;TZID=Europe/Berlin:20261015T190000
DTEND;TZID=Europe/Berlin:20261015T200000
DTSTAMP:20260423T024545
CREATED:20260131T185031Z
LAST-MODIFIED:20260301T100802Z
UID:4393-1792090800-1792094400@www.freiraum-balingen.de
SUMMARY:WILDCARD Christina Netzel und Lara Leone
DESCRIPTION:Infos folgen.
URL:https://www.freiraum-balingen.de/termine/wildcard-christina-netzel-und-lara-leone/
LOCATION:Zehntscheuer Balingen\, Neue Str. 59\, Balingen\, 72336\, Deutschland
CATEGORIES:WILDCARD
END:VEVENT
END:VCALENDAR