BEGIN:VCALENDAR
VERSION:2.0
PRODID:-//FREIRAUM - ECPv6.15.18//NONSGML v1.0//EN
CALSCALE:GREGORIAN
METHOD:PUBLISH
X-WR-CALNAME:FREIRAUM
X-ORIGINAL-URL:https://www.freiraum-balingen.de
X-WR-CALDESC:Veranstaltungen für FREIRAUM
REFRESH-INTERVAL;VALUE=DURATION:PT1H
X-Robots-Tag:noindex
X-PUBLISHED-TTL:PT1H
BEGIN:VTIMEZONE
TZID:Europe/Berlin
BEGIN:DAYLIGHT
TZOFFSETFROM:+0100
TZOFFSETTO:+0200
TZNAME:CEST
DTSTART:20250330T010000
END:DAYLIGHT
BEGIN:STANDARD
TZOFFSETFROM:+0200
TZOFFSETTO:+0100
TZNAME:CET
DTSTART:20251026T010000
END:STANDARD
BEGIN:DAYLIGHT
TZOFFSETFROM:+0100
TZOFFSETTO:+0200
TZNAME:CEST
DTSTART:20260329T010000
END:DAYLIGHT
BEGIN:STANDARD
TZOFFSETFROM:+0200
TZOFFSETTO:+0100
TZNAME:CET
DTSTART:20261025T010000
END:STANDARD
BEGIN:DAYLIGHT
TZOFFSETFROM:+0100
TZOFFSETTO:+0200
TZNAME:CEST
DTSTART:20270328T010000
END:DAYLIGHT
BEGIN:STANDARD
TZOFFSETFROM:+0200
TZOFFSETTO:+0100
TZNAME:CET
DTSTART:20271031T010000
END:STANDARD
END:VTIMEZONE
BEGIN:VEVENT
DTSTART;TZID=Europe/Berlin:20260326T190000
DTEND;TZID=Europe/Berlin:20260326T200000
DTSTAMP:20260422T192110
CREATED:20251026T095210Z
LAST-MODIFIED:20260322T234044Z
UID:4194-1774551600-1774555200@www.freiraum-balingen.de
SUMMARY:WILDCARD Pauline Ruhe
DESCRIPTION:Pauline Ruhe ist eine außergewöhnliche Jazzsängerin\, deren Stimme die Zuhörer in eine andere Zeit und einen anderen Raum zu entführen vermag. Mit ihrer kraftvollen und gleichzeitig zarten Ausdruckskraft verleiht sie jeder Note eine emotionale Tiefe\, die in den Herzen ihrer Zuhörer nachhallt.  \nSchon früh begann sie\, Bühnenerfahrung zu sammeln und trat rasch in Projekte namhafter Jazzer ein\, was ihr nicht nur wertvolle Erfahrungen\, sondern auch eine weitreichende Bekanntheit verschaffte. Die musikalische Reise von Pauline Ruhe führte sie nicht nur in die Welt des Jazz\, sondern auch in die Gefilde von Soul\, R&B und Elektropop\, wo sie mit eigenen Bandprojekten immer wieder neue\, spannende Klangwelten schuf. Begleitet wird Sie bei dem Wildcard-Konzert von dem Pianisten Wolfgang Fischer. \nDurchs Programm führt Boris Retzlaff\, die musikalische Betreuung übernimmt Wolfgang Fischer. \nMit der Konzertreihe WILDCARD öffnen der Verein FREIRAUM – Balingen kreativ e. V. und die Zehntscheuer Balingen einen Raum für ungewöhnliche Klänge. Wer sich und seine Musik vor Publikum ausprobieren möchte\, findet hier die Gelegenheit. \nMehr zum Projekt
URL:https://www.freiraum-balingen.de/termine/wildcard-maerz/
LOCATION:Zehntscheuer Balingen\, Neue Str. 59\, Balingen\, 72336\, Deutschland
CATEGORIES:WILDCARD
ATTACH;FMTTYPE=image/png:https://www.freiraum-balingen.de/wp-content/uploads/2025/10/wildcard-18_Pauline-Ruhe_website_2.png
END:VEVENT
BEGIN:VEVENT
DTSTART;TZID=Europe/Berlin:20260327T153000
DTEND;TZID=Europe/Berlin:20260327T180000
DTSTAMP:20260422T192110
CREATED:20260212T190436Z
LAST-MODIFIED:20260315T131143Z
UID:4450-1774625400-1774634400@www.freiraum-balingen.de
SUMMARY:Kreatives Treffen Urban Sketching
DESCRIPTION:Der Frühling kommt\, es wird wärmer und bunter – Zeit\, Stift und Papier einzupacken und wieder gemeinsam mit anderen kreativ zu sein!  Die Urban-Sketching-Treffen starten nach der Winterpause in eine neue Runde.  \nWas ist Urban Sketching? Urban Sketching bedeutet\, das festzuhalten\, was man sieht – direkt vor Ort\, draußen oder drinnen. Ob Gebäude\, Menschen\, Alltagsszenen oder Straßencafés: Wir zeichnen\, was uns umgibt – jede/r auf seine eigene Weise. \nWas brauchst du? \nNur das Nötigste:\nEin Skizzenbuch oder einfach etwas Papier\nEinen Stift (z. B. Fineliner\, Kugelschreiber oder Bleistift)\nWer mag\, bringt Aquarellfarben\, Buntstifte oder Acrylmarker mit. \nVorkenntnisse brauchst du keine – nur Spaß am Zeichnen und Entdecken! \nWo und wann treffen wir uns? \nFreitag\, 27.03.26 um 15:30 Uhr (Ende ca. 18 Uhr) am Brunnen an der Stadtkirche in Balingen (Marktplatz).   \nEs ist keine Anmeldung nötig! Bei schlechtem Wetter suchen wir uns eine Location\, um drinnen zeichnen zu können.
URL:https://www.freiraum-balingen.de/termine/kreatives-treffen-urban-sketching-2/
LOCATION:Stadtkirche Balingen\, Am Spitaltörle 1\, Balingen\, 72336\, Germany
CATEGORIES:Kreatives Treffen
ATTACH;FMTTYPE=image/jpeg:https://www.freiraum-balingen.de/wp-content/uploads/2026/02/Collage-UKS-2-600px.jpg
END:VEVENT
END:VCALENDAR