BEGIN:VCALENDAR
VERSION:2.0
PRODID:-//FREIRAUM - ECPv6.15.18//NONSGML v1.0//EN
CALSCALE:GREGORIAN
METHOD:PUBLISH
X-ORIGINAL-URL:https://www.freiraum-balingen.de
X-WR-CALDESC:Veranstaltungen für FREIRAUM
REFRESH-INTERVAL;VALUE=DURATION:PT1H
X-Robots-Tag:noindex
X-PUBLISHED-TTL:PT1H
BEGIN:VTIMEZONE
TZID:Europe/Berlin
BEGIN:DAYLIGHT
TZOFFSETFROM:+0100
TZOFFSETTO:+0200
TZNAME:CEST
DTSTART:20240331T010000
END:DAYLIGHT
BEGIN:STANDARD
TZOFFSETFROM:+0200
TZOFFSETTO:+0100
TZNAME:CET
DTSTART:20241027T010000
END:STANDARD
BEGIN:DAYLIGHT
TZOFFSETFROM:+0100
TZOFFSETTO:+0200
TZNAME:CEST
DTSTART:20250330T010000
END:DAYLIGHT
BEGIN:STANDARD
TZOFFSETFROM:+0200
TZOFFSETTO:+0100
TZNAME:CET
DTSTART:20251026T010000
END:STANDARD
BEGIN:DAYLIGHT
TZOFFSETFROM:+0100
TZOFFSETTO:+0200
TZNAME:CEST
DTSTART:20260329T010000
END:DAYLIGHT
BEGIN:STANDARD
TZOFFSETFROM:+0200
TZOFFSETTO:+0100
TZNAME:CET
DTSTART:20261025T010000
END:STANDARD
END:VTIMEZONE
BEGIN:VEVENT
DTSTART;VALUE=DATE:20250330
DTEND;VALUE=DATE:20250502
DTSTAMP:20260423T150017
CREATED:20250326T163344Z
LAST-MODIFIED:20250412T111635Z
UID:3673-1743296400-1746064799@www.freiraum-balingen.de
SUMMARY:FREIRAUM für regionale Kunst ARTenvielfalt
DESCRIPTION:Ab dem 30. März bis zum 30. April 2025 präsentiert das Künstler-Paar Kati Kanniga und Matthias Klose-Kanniga\, bekannt als ARTenvielfalt\, ihre einzigartigen Werke im blauen Haus in Balingen. Beide sind Garten- und Landschaftsbauer aus Geislingen-Binsdorf\, die ihre Leidenschaft für Natur\, Farben und Materialien in ihre Kunst integrieren. Ihre Arbeiten inspirieren dazu\, Natur und Kreativität sowohl im großen als auch im kleinen Rahmen zuzulassen. \nDas Duo setzt auf Hoffnung und Zuversicht statt Schwarzmalerei und möchte Menschen ermutigen\, die Vielfalt der Natur zu schätzen und zu fördern. Ihre Philosophie der ARTenvielfalt spiegelt sich in ihren Werken wider\, die Menschen und Insekten gleichermaßen willkommen heißen. Mit ihrer Teilnahme an renommierten Veranstaltungen sowie durch zahlreiche Ausstellungen und Straßenmalerei mit Kindern haben sie bereits viele begeistert. \nWer freie Schaufenster gerne für „FREIRAUM für regionale Kunst“ zur Verfügung stellen möchte\, kann sich gerne bei kreativ@freiraum-balingen.de melden. \nMit der Schaufenster-Galerie folgen wir unserem Leitgedanken: Kunst muss zu den Menschen kommen\, nicht umgekehrt. \nMehr zum Projekt\n 
URL:https://www.freiraum-balingen.de/termine/freiraum-fuer-regionale-kunst-artenvielfalt/
LOCATION:Blaues Haus\, Viehmarktplatz 1\, Balingen\, Baden-Württemberg\, Germany
CATEGORIES:FreiRaum für Regionale Kunst
ATTACH;FMTTYPE=image/jpeg:https://www.freiraum-balingen.de/wp-content/uploads/2025/03/Bild-26.03.25-um-18.33.jpg
END:VEVENT
BEGIN:VEVENT
DTSTART;VALUE=DATE:20250406
DTEND;VALUE=DATE:20250513
DTSTAMP:20260423T150017
CREATED:20250409T061041Z
LAST-MODIFIED:20250409T061309Z
UID:3692-1743904800-1747015199@www.freiraum-balingen.de
SUMMARY:FREIRAUM für regionale Kunst Baba Cham
DESCRIPTION:Baba Cham\, ein Künstler mit internationaler Erfahrung und regionaler Verbundenheit\, präsentiert zwei Werke seiner faszinierenden Puppet-Serie. Seine Kunst verbindet tiefgründige Geschichten mit ausdrucksstarken Formen und lädt Betrachter dazu ein\, die Grenzen zwischen Realität und Fantasie zu erkunden. \nWer freie Schaufenster gerne für „FREIRAUM für regionale Kunst“ zur Verfügung stellen möchte\, kann sich gerne bei kreativ@freiraum-balingen.de melden. \nMit der Schaufenster-Galerie folgen wir unserem Leitgedanken: Kunst muss zu den Menschen kommen\, nicht umgekehrt. \nMehr zum Projekt\n  \n\n    \n        \n            \n                \n                \n                \n                \n                \n                \n                \n                \n            \n        \n        \n        \n    \n\n  \nFotos: LookWork
URL:https://www.freiraum-balingen.de/termine/freiraum-fuer-regionale-kunst-baba-cham/
LOCATION:Hengsteler\, Friedrichstraße 28\, Balingen\, Baden-Württemberg\, 72336\, Germany
CATEGORIES:FreiRaum für Regionale Kunst
ATTACH;FMTTYPE=image/jpeg:https://www.freiraum-balingen.de/wp-content/uploads/2025/04/25-Baba-Hengsteler-0038-2880px-scaled.jpg
END:VEVENT
BEGIN:VEVENT
DTSTART;VALUE=DATE:20250413
DTEND;VALUE=DATE:20250513
DTSTAMP:20260423T150018
CREATED:20250416T113525Z
LAST-MODIFIED:20250416T113736Z
UID:3768-1744509600-1747015199@www.freiraum-balingen.de
SUMMARY:FREIRAUM für Regionale Kunst Kunst = Energie
DESCRIPTION:Die Stromkästen der Aktion „Kunst = Energie“ sind jetzt im Schaufenster von Sport Paul ausgestellt und bereichern damit die Stadt um eine weitere kreative Präsentationsfläche! So entstehen neue Möglichkeiten\, regionale Kunst sichtbar zu machen und mitten im Alltag erlebbar zu machen. \nDiese kreativ gestalteten Stromkästen sind nicht nur optische Hingucker\, sondern auch ein sichtbarer Ausdruck der positiven Energie und des künstlerischen Engagements in der Stadt. Sie zeigen\, wie Kunst den öffentlichen Raum bereichert und die Menschen anspricht\, indem sie alltägliche Objekte in Kunstwerke verwandelt. Die Aktion „Kunst = Energie“ ist Teil des umfassenderen Projekts „Freundliches Balingen“\, das darauf abzielt\, die Stadt zu einem freundlicheren und kreativeren Ort zu machen. \nWer freie Schaufenster gerne für „FREIRAUM für regionale Kunst“ zur Verfügung stellen möchte\, kann sich gerne bei kreativ@freiraum-balingen.de melden. \nMit der Schaufenster-Galerie folgen wir unserem Leitgedanken: Kunst muss zu den Menschen kommen\, nicht umgekehrt. \nMehr zum Projekt
URL:https://www.freiraum-balingen.de/termine/freiraum-fuer-regionale-kunst-kunst-energie-bei-sport-paul/
LOCATION:Intersport Sport Paul\, Friedrichstraße 57\, Balingen\, Baden-Württemberg\, 72336\, Germany
CATEGORIES:FreiRaum für Regionale Kunst
ATTACH;FMTTYPE=image/jpeg:https://www.freiraum-balingen.de/wp-content/uploads/2025/04/image3-scaled.jpeg
END:VEVENT
BEGIN:VEVENT
DTSTART;VALUE=DATE:20250504
DTEND;VALUE=DATE:20250527
DTSTAMP:20260423T150018
CREATED:20250503T214359Z
LAST-MODIFIED:20250507T080411Z
UID:3821-1746316800-1748303999@www.freiraum-balingen.de
SUMMARY:FREIRAUM für Regionale Kunst Cordula Kohle
DESCRIPTION:Freiraum Balingen Kreativ präsentiert die Künstlerin Cordula Kohle\, deren Werke durch kräftige und ausdrucksstarke Farben bestechen. Im Mittelpunkt ihrer Malerei stehen vor allem Menschen – von Neugeborenen über Kinder bis hin zu ausdrucksstarken Porträts und Akten\, die mit viel Leidenschaft und Energie in leuchtenden Acrylfarben gestaltet sind. \nCordula Kohle versteht Farbe als ein Medium\, um Gefühle wie Liebe\, Lebensfreude\, Fürsorge und Wertschätzung sichtbar zu machen. Die Herausforderung\, Gesichter und Hände realistisch und lebendig darzustellen\, spornt sie immer wieder an\, ihre Technik zu verfeinern und neue Wege zu gehen. Ihre Kunst vermittelt Ruhe und Sicherheit und schafft eine Verbindung zwischen der Künstlerin und den Betrachter:innen\, die von der intensiven Farbigkeit und Ausdruckskraft ihrer Bilder berührt werden. \nDen Ursprung ihrer künstlerischen Tätigkeit fand Cordula Kohle nach der Geburt ihrer Kinder\, als sie begann\, Kinderzimmer mit selbstgemalten Bildern individuell zu gestalten. Diese persönliche Erfahrung entwickelte sich zu einer tiefen Leidenschaft\, die sie bis heute prägt. \nAktuell sind ihre farbenfrohen Werke im Schaufenster des Blauen Hauses in Balingen zu sehen. Dort lädt die Ausstellung dazu ein\, in die lebendige und emotionale Welt von Cordula Kohles Kunst einzutauchen und die Kraft der Farben hautnah zu erleben. \nMit der Schaufenster-Galerie folgen wir unserem Leitgedanken: Kunst muss zu den Menschen kommen\, nicht umgekehrt. \nMehr zum Projekt
URL:https://www.freiraum-balingen.de/termine/freiraum-fuer-regionale-kunst-cordula-kohle/
LOCATION:Blaues Haus\, Viehmarktplatz 1\, Balingen\, Baden-Württemberg\, Germany
CATEGORIES:FreiRaum für Regionale Kunst
ATTACH;FMTTYPE=image/jpeg:https://www.freiraum-balingen.de/wp-content/uploads/2025/05/PHOTO-2025-05-02-14-50-19-1-scaled.jpg
END:VEVENT
BEGIN:VEVENT
DTSTART;VALUE=DATE:20250507
DTEND;VALUE=DATE:20250601
DTSTAMP:20260423T150018
CREATED:20250507T075231Z
LAST-MODIFIED:20250507T075328Z
UID:3846-1746576000-1748735999@www.freiraum-balingen.de
SUMMARY:FREIRAUM für regionale Kunst Ingrid Mahageeta Münnich
DESCRIPTION:Ingrid Mahageeta Münnich\, geboren 1938\, ist eine vielseitige Künstlerin\, deren Werk durch einen offenen\, experimentellen Umgang mit Materialien und Themen geprägt ist. Ihr künstlerisches Schaffen spiegelt die Überzeugung wider\, dass Kunst Menschen zusammenbringt und Räume mit Kreativität füllt – ganz im Sinne des Leitgedankens von Freiraum Balingen: Kunst muss zu den Menschen kommen\, nicht umgekehrt. \nMit ihrer langjährigen Erfahrung und ihrer Offenheit für neue Ausdrucksformen bereichert Ingrid Mahageeta Münnich unser Projekt Freiraum für regionale Kunst. Ihre Arbeiten laden zum Entdecken und Innehalten ein und setzen Impulse\, die das kreative Potenzial der Region sichtbar machen. \nIm Rahmen der Pop-up-Schaufenster-Galerie präsentiert Freiraum Balingen Münnichs Werke als Teil des lebendigen Austauschs regionaler Kunstschaffender. Damit trägt sie dazu bei\, Balingen als kreative Stadt weiterzuentwickeln und Kunst für alle erlebbar zu machen. \nMit der Schaufenster-Galerie folgen wir unserem Leitgedanken: Kunst muss zu den Menschen kommen\, nicht umgekehrt. \nMehr zum Projekt
URL:https://www.freiraum-balingen.de/termine/freiraum-fuer-regionale-kunst-ingrid-mahageeta-muennich/
LOCATION:jung.friseur\, Kameralamtstr. 6\, Balingen\, Baden-Württemberg\, 72336\, Germany
CATEGORIES:FreiRaum für Regionale Kunst
ATTACH;FMTTYPE=image/jpeg:https://www.freiraum-balingen.de/wp-content/uploads/2025/05/IMG_6853-scaled.jpeg
END:VEVENT
BEGIN:VEVENT
DTSTART;TZID=Europe/Berlin:20250515T190000
DTEND;TZID=Europe/Berlin:20250515T200000
DTSTAMP:20260423T150018
CREATED:20250409T065315Z
LAST-MODIFIED:20250513T064857Z
UID:3713-1747335600-1747339200@www.freiraum-balingen.de
SUMMARY:WILDCARD mit Lisa und Patricia Nell
DESCRIPTION:WILDCARD-KONZERT in der Zehntscheuer Balingen: Klangvielfalt\, Mut und Magie \nDie Teilnahme ist kostenlos und kann ohne Voranmeldung stattfinden.\nMit den WILDCARD-Konzerten öffnet FREIRaum Balingen kreativ e.V. die Bühne für musikalische Entdeckungen jenseits des Mainstreams. Am 15. Mai bringen Lisa und Patricia Nell ihre ganz eigene Klangwelt nach Balingen – ein musikalisches Abenteuer zwischen Klassik\, Rock\, Soul\, Musical und eigenen Kompositionen. \nDie Schwestern vereinen in ihrem Programm jahrelange Bühnenerfahrung mit der Lust am Neuanfang. Sie interpretieren bekannte Songs auf überraschende Weise neu\, bringen Eigenkompositionen auf die Bühne und verschmelzen dabei verschiedenste Stilrichtungen zu einem ganz persönlichen Konzerterlebnis. Patricia\, ausgebildet in klassischem Gesang\, und Lisa\, zu Hause im Gospel\, Musical und Jazz\, schaffen so eine Verbindung\, die berührt – ehrlich\, experimentell und emotional. \n„Wir wollten schon lange Songs zeigen\, die wir noch nie öffentlich gesungen haben – Neues ausprobieren\, eigene Songs\, aber auch Lieder\, die wir lieben\, auf unsere Art interpretieren. Die WILDCARD-Bühne gibt uns die Freiheit\, genau das zu tun“\, so Lisa und Patricia Nell. \nDie WILDCARD-Reihe steht für mutige musikalische Ideen\, für den Raum\, Neues auszuprobieren und für das Erleben von Musik als soziale Kunstform. Hier wird nicht nur Musik gemacht – hier entsteht Begegnung. WILDCARD wird unterstütz von der Volksbank Hohenzollern-Balingen. \nÜber die Künstlerinnen\nLisa Nell steht seit ihrer Kindheit auf der Bühne – ob in Chören\, Musicals oder als Hochzeitssängerin. Mit ihrer warmen Stimme begeistert sie in Gospel-Formationen\, Vokalensembles und Big Bands.\nPatricia Nell studierte klassischen Gesang und Musikpädagogik. Sie ist in den Genres Klassik\, Gospel\, Rock/Pop und Country zu Hause und begeistert sowohl als Solistin als auch in Ensembles – zuletzt als Gräfin in Mozarts Le Nozze di Figaro. \nMehr zum Projekt
URL:https://www.freiraum-balingen.de/termine/wildcard-mit-lisa-und-patricia-nell/
LOCATION:Zehntscheuer Balingen\, Neue Str. 59\, Balingen\, 72336\, Deutschland
CATEGORIES:WILDCARD
ATTACH;FMTTYPE=image/jpeg:https://www.freiraum-balingen.de/wp-content/uploads/2025/04/website_1920x1080px.jpg
END:VEVENT
BEGIN:VEVENT
DTSTART;VALUE=DATE:20250530
DTEND;VALUE=DATE:20250630
DTSTAMP:20260423T150018
CREATED:20250531T084552Z
LAST-MODIFIED:20250606T110444Z
UID:3884-1748563200-1751241599@www.freiraum-balingen.de
SUMMARY:FREIRAUM für Regionale Kunst Eberhard Butz
DESCRIPTION:Eberhard Butz\, geboren 1955 in Balingen\, ist seit Jahrzehnten fest in der Region verwurzelt. Nach über 55 Jahren als engagierter Musiker am Flügelhorn im Musikverein Roßwangen\, wo er nicht nur als Leistungsträger\, sondern auch als Ausbilder Generationen von Nachwuchsmusikern geprägt hat\, widmet er sich seit seiner Pensionierung 2019 intensiv seiner zweiten Leidenschaft: der Holzkunst. \nVor rund zwanzig Jahren begann Eberhard Butz\, die Einzigartigkeit und Schönheit alter Obstgehölze zu entdecken und daraus Skulpturen zu schaffen. Mit handwerklicher Präzision\, Gespür für Form und Respekt vor dem Material arbeitet er die charaktervollen Eigenheiten des Holzes heraus und verwandelt es in ausdrucksstarke Kunstwerke. Diese Werke erzählen von der Kraft der Natur\, vom Werden und Vergehen – und von der Fähigkeit\, im Alltäglichen das Besondere zu erkennen. \nNeben der Kunst und Musik ist Eberhard Butz begeisterter Hobbygärtner. Gemeinsam mit seiner Ehefrau Rosa pflegt er den eigenen Obst- und Gemüsegarten in Balingen-Roßwangen und genießt das Familienleben als Vater von drei erwachsenen Kindern und Opa von zwei Enkelkindern. \nDie Ausstellung im FREIRAUM lädt dazu ein\, die facettenreiche Holzkunst von Eberhard Butz zu entdecken – Werke\, die Naturverbundenheit\, Kreativität und handwerkliches Können in einzigartiger Weise vereinen. \nWer freie Schaufenster gerne für „FREIRAUM für regionale Kunst“ zur Verfügung stellen möchte\, kann sich gerne bei kreativ@freiraum-balingen.de melden. \nMit der Schaufenster-Galerie folgen wir unserem Leitgedanken: Kunst muss zu den Menschen kommen\, nicht umgekehrt. \nMehr zum Projekt
URL:https://www.freiraum-balingen.de/termine/freiraum-fuer-regionale-kunst-eberhard-butz/
LOCATION:Blaues Haus\, Viehmarktplatz 1\, Balingen\, Baden-Württemberg\, Germany
CATEGORIES:FreiRaum für Regionale Kunst
ATTACH;FMTTYPE=image/jpeg:https://www.freiraum-balingen.de/wp-content/uploads/2025/06/2025-Eberhard-Butz-Skulpturen-33-scaled.jpg
END:VEVENT
END:VCALENDAR