BEGIN:VCALENDAR
VERSION:2.0
PRODID:-//FREIRAUM - ECPv6.15.18//NONSGML v1.0//EN
CALSCALE:GREGORIAN
METHOD:PUBLISH
X-ORIGINAL-URL:https://www.freiraum-balingen.de
X-WR-CALDESC:Veranstaltungen für FREIRAUM
REFRESH-INTERVAL;VALUE=DURATION:PT1H
X-Robots-Tag:noindex
X-PUBLISHED-TTL:PT1H
BEGIN:VTIMEZONE
TZID:Europe/Berlin
BEGIN:DAYLIGHT
TZOFFSETFROM:+0100
TZOFFSETTO:+0200
TZNAME:CEST
DTSTART:20250330T010000
END:DAYLIGHT
BEGIN:STANDARD
TZOFFSETFROM:+0200
TZOFFSETTO:+0100
TZNAME:CET
DTSTART:20251026T010000
END:STANDARD
BEGIN:DAYLIGHT
TZOFFSETFROM:+0100
TZOFFSETTO:+0200
TZNAME:CEST
DTSTART:20260329T010000
END:DAYLIGHT
BEGIN:STANDARD
TZOFFSETFROM:+0200
TZOFFSETTO:+0100
TZNAME:CET
DTSTART:20261025T010000
END:STANDARD
BEGIN:DAYLIGHT
TZOFFSETFROM:+0100
TZOFFSETTO:+0200
TZNAME:CEST
DTSTART:20270328T010000
END:DAYLIGHT
BEGIN:STANDARD
TZOFFSETFROM:+0200
TZOFFSETTO:+0100
TZNAME:CET
DTSTART:20271031T010000
END:STANDARD
END:VTIMEZONE
BEGIN:VEVENT
DTSTART;TZID=Europe/Berlin:20260716T190000
DTEND;TZID=Europe/Berlin:20260716T200000
DTSTAMP:20260422T234520
CREATED:20260131T184918Z
LAST-MODIFIED:20260315T130804Z
UID:4389-1784228400-1784232000@www.freiraum-balingen.de
SUMMARY:WILDCARD Lilli & Jule
DESCRIPTION:Walt Disney & Co. – Magische Prinzessinnenklänge\nDie beiden Siebtklässlerinnen Lilli Gehring und Jule Fleiner entführen das Publikum in die zauberhafte Welt von Walt Disney & Co. Mit viel Freude und musikalischem Gespür präsentieren sie ihre Lieblings-Prinzessinnen-Songs – mal als gefühlvolles Solo\, mal als harmonisches Duett immer begleitet von Wolfgang Fischer am Klavier. \nMentorinnen/Gesangslehrerinnen: Beatrix Reiterer und Vanessa Haug\n \nDurchs Programm führt Boris Retzlaff\, die musikalische Betreuung übernimmt Wolfgang Fischer. \nMit der Konzertreihe WILDCARD öffnen der Verein FREIRAUM – Balingen kreativ e. V. und die Zehntscheuer Balingen einen Raum für ungewöhnliche Klänge. Wer sich und seine Musik vor Publikum ausprobieren möchte\, findet hier die Gelegenheit. \nMehr zum Projekt
URL:https://www.freiraum-balingen.de/termine/wildcard-juli/
LOCATION:Zehntscheuer Balingen\, Neue Str. 59\, Balingen\, 72336\, Deutschland
CATEGORIES:WILDCARD
ATTACH;FMTTYPE=image/png:https://www.freiraum-balingen.de/wp-content/uploads/2026/01/wildcard-22_lilli-jule_website-1.png
END:VEVENT
END:VCALENDAR