BEGIN:VCALENDAR
VERSION:2.0
PRODID:-//FREIRAUM - ECPv6.15.18//NONSGML v1.0//EN
CALSCALE:GREGORIAN
METHOD:PUBLISH
X-ORIGINAL-URL:https://www.freiraum-balingen.de
X-WR-CALDESC:Veranstaltungen für FREIRAUM
REFRESH-INTERVAL;VALUE=DURATION:PT1H
X-Robots-Tag:noindex
X-PUBLISHED-TTL:PT1H
BEGIN:VTIMEZONE
TZID:Europe/Berlin
BEGIN:DAYLIGHT
TZOFFSETFROM:+0100
TZOFFSETTO:+0200
TZNAME:CEST
DTSTART:20250330T010000
END:DAYLIGHT
BEGIN:STANDARD
TZOFFSETFROM:+0200
TZOFFSETTO:+0100
TZNAME:CET
DTSTART:20251026T010000
END:STANDARD
BEGIN:DAYLIGHT
TZOFFSETFROM:+0100
TZOFFSETTO:+0200
TZNAME:CEST
DTSTART:20260329T010000
END:DAYLIGHT
BEGIN:STANDARD
TZOFFSETFROM:+0200
TZOFFSETTO:+0100
TZNAME:CET
DTSTART:20261025T010000
END:STANDARD
BEGIN:DAYLIGHT
TZOFFSETFROM:+0100
TZOFFSETTO:+0200
TZNAME:CEST
DTSTART:20270328T010000
END:DAYLIGHT
BEGIN:STANDARD
TZOFFSETFROM:+0200
TZOFFSETTO:+0100
TZNAME:CET
DTSTART:20271031T010000
END:STANDARD
END:VTIMEZONE
BEGIN:VEVENT
DTSTART;TZID=Europe/Berlin:20260703T183000
DTEND;TZID=Europe/Berlin:20260703T200000
DTSTAMP:20260422T221910
CREATED:20260131T214635Z
LAST-MODIFIED:20260406T105301Z
UID:4427-1783103400-1783108800@www.freiraum-balingen.de
SUMMARY:ABGESAGT Kreatives Treffen mit Ingrid Mahageta Münnich "Lebens-Einsichten\, Aussichten und Ansichten"
DESCRIPTION:—
URL:https://www.freiraum-balingen.de/termine/kreatives-treffen-mit-ingrid-mahageta-muennich-lebens-einsichten-aussichten-und-ansichten/
CATEGORIES:Kreatives Treffen
ATTACH;FMTTYPE=image/jpeg:https://www.freiraum-balingen.de/wp-content/uploads/2026/01/munich.jpg
END:VEVENT
END:VCALENDAR