BEGIN:VCALENDAR
VERSION:2.0
PRODID:-//FREIRAUM - ECPv6.15.18//NONSGML v1.0//EN
CALSCALE:GREGORIAN
METHOD:PUBLISH
X-WR-CALNAME:FREIRAUM
X-ORIGINAL-URL:https://www.freiraum-balingen.de
X-WR-CALDESC:Veranstaltungen für FREIRAUM
REFRESH-INTERVAL;VALUE=DURATION:PT1H
X-Robots-Tag:noindex
X-PUBLISHED-TTL:PT1H
BEGIN:VTIMEZONE
TZID:Europe/Berlin
BEGIN:DAYLIGHT
TZOFFSETFROM:+0100
TZOFFSETTO:+0200
TZNAME:CEST
DTSTART:20250330T010000
END:DAYLIGHT
BEGIN:STANDARD
TZOFFSETFROM:+0200
TZOFFSETTO:+0100
TZNAME:CET
DTSTART:20251026T010000
END:STANDARD
BEGIN:DAYLIGHT
TZOFFSETFROM:+0100
TZOFFSETTO:+0200
TZNAME:CEST
DTSTART:20260329T010000
END:DAYLIGHT
BEGIN:STANDARD
TZOFFSETFROM:+0200
TZOFFSETTO:+0100
TZNAME:CET
DTSTART:20261025T010000
END:STANDARD
BEGIN:DAYLIGHT
TZOFFSETFROM:+0100
TZOFFSETTO:+0200
TZNAME:CEST
DTSTART:20270328T010000
END:DAYLIGHT
BEGIN:STANDARD
TZOFFSETFROM:+0200
TZOFFSETTO:+0100
TZNAME:CET
DTSTART:20271031T010000
END:STANDARD
END:VTIMEZONE
BEGIN:VEVENT
DTSTART;TZID=Europe/Berlin:20260423T190000
DTEND;TZID=Europe/Berlin:20260423T200000
DTSTAMP:20260423T013320
CREATED:20251026T095244Z
LAST-MODIFIED:20260406T104727Z
UID:4196-1776970800-1776974400@www.freiraum-balingen.de
SUMMARY:WILDCARD A’n’F
DESCRIPTION:Have a drink\, relax and listen … \nDie beiden Gitarristen Andy und Franco spielen Songs der Stilrichtungen amerikanischer Folk\, Blues und Country in unterschiedlichen Stimmungen. Zudem ergänzen einige ausgewählte Popsongs die Setliste. Diese unplugged Coversongs sind von Künstlern/Bands aus den verschiedenen letzten Jahrzehnten zusammengestellt. \nDer Mix aus bekannten und weniger bekannten Stücken macht den Reiz des Programms der beiden erfahrenen Musiker aus. Der Gitarrensound des Duos\, gespickt mit harmonischen Soli\, bildet eine wohl temperierte Basis für die beiden verschiedenen Gesangsstimmen.\nDas Motto „Have a drink\, relax and listen …“ soll den Zuhörern einen entspannten Abend in geselliger Runde bereiten und die eine oder andere Erinnerung zu diesen Songs hervorbringen.
URL:https://www.freiraum-balingen.de/termine/wildcard-anf/
LOCATION:Zehntscheuer Balingen\, Neue Str. 59\, Balingen\, 72336\, Deutschland
CATEGORIES:WILDCARD
ATTACH;FMTTYPE=image/png:https://www.freiraum-balingen.de/wp-content/uploads/2025/10/wildcard-19_anf_website.png
END:VEVENT
END:VCALENDAR