BEGIN:VCALENDAR
VERSION:2.0
PRODID:-//FREIRAUM - ECPv6.15.18//NONSGML v1.0//EN
CALSCALE:GREGORIAN
METHOD:PUBLISH
X-ORIGINAL-URL:https://www.freiraum-balingen.de
X-WR-CALDESC:Veranstaltungen für FREIRAUM
REFRESH-INTERVAL;VALUE=DURATION:PT1H
X-Robots-Tag:noindex
X-PUBLISHED-TTL:PT1H
BEGIN:VTIMEZONE
TZID:Europe/Berlin
BEGIN:DAYLIGHT
TZOFFSETFROM:+0100
TZOFFSETTO:+0200
TZNAME:CEST
DTSTART:20240331T010000
END:DAYLIGHT
BEGIN:STANDARD
TZOFFSETFROM:+0200
TZOFFSETTO:+0100
TZNAME:CET
DTSTART:20241027T010000
END:STANDARD
BEGIN:DAYLIGHT
TZOFFSETFROM:+0100
TZOFFSETTO:+0200
TZNAME:CEST
DTSTART:20250330T010000
END:DAYLIGHT
BEGIN:STANDARD
TZOFFSETFROM:+0200
TZOFFSETTO:+0100
TZNAME:CET
DTSTART:20251026T010000
END:STANDARD
BEGIN:DAYLIGHT
TZOFFSETFROM:+0100
TZOFFSETTO:+0200
TZNAME:CEST
DTSTART:20260329T010000
END:DAYLIGHT
BEGIN:STANDARD
TZOFFSETFROM:+0200
TZOFFSETTO:+0100
TZNAME:CET
DTSTART:20261025T010000
END:STANDARD
BEGIN:DAYLIGHT
TZOFFSETFROM:+0100
TZOFFSETTO:+0200
TZNAME:CEST
DTSTART:20270328T010000
END:DAYLIGHT
BEGIN:STANDARD
TZOFFSETFROM:+0200
TZOFFSETTO:+0100
TZNAME:CET
DTSTART:20271031T010000
END:STANDARD
END:VTIMEZONE
BEGIN:VEVENT
DTSTART;VALUE=DATE:20251201
DTEND;VALUE=DATE:20260201
DTSTAMP:20260422T235700
CREATED:20251231T104540Z
LAST-MODIFIED:20251231T105932Z
UID:4355-1764547200-1769903999@www.freiraum-balingen.de
SUMMARY:FREIRAUM für regionale Kunst Hatsune Dreher-Shimoda
DESCRIPTION:Hatsune Dreher-Shimoda\, in Japan geboren\, lebt seit 2010 in Deutschland und wohnt aktuell in Tieringen. Ihr Interesse am Zeichnen begann bereits in ihrer Kindheit\, soweit sie sich erinnern kann. Sie liebt Begegnungen mit Menschen und erkennt das Schöne in jedem Menschen. Die Porträts in der Ausstellung zeigen in ihrer Detailgenauigkeit nicht nur die äußere Schönheit der dargestellten Personen\, sondern auch die individuelle Geschichte dahinter. \nSie nutzt digitale Werkzeuge und kombiniert damit analoge Handarbeit wie Aquarelltechnik oder Bleistiftzeichnung mit grafischer Gestaltung. Das Ergebnis ist „Kunst für jede*n“. \nDie Porträt-Serie „Frauen“\, die speziell für die Ausstellung im Friseursalon jung.friseur entstanden ist und nur dort im Original zu sehen ist\, zeigt die Einzigartigkeit jeder Frau. Hatsune Dreher-Shimoda hat ein feines Gespür dafür\, die Persönlichkeit aus ihren „Modellen“ herauszulesen und künstlerisch darzustellen. \nFür weitere Informationen zur Porträtbestellung kontaktieren Sie die Künstlerin gerne\, oder besuchen Sie ihre Website:\nhatsunedreher@gmail.com\nwww.hatsunedreher.com \n 
URL:https://www.freiraum-balingen.de/termine/freiraum-fuer-regionale-kunst-hatsune-dreher-shimoda/
LOCATION:jung.friseur\, Kameralamtstr. 6\, Balingen\, Baden-Württemberg\, 72336\, Germany
CATEGORIES:FreiRaum für Regionale Kunst
ATTACH;FMTTYPE=image/jpeg:https://www.freiraum-balingen.de/wp-content/uploads/2025/12/Portraet-Serie-1.jpg-scaled.jpg
END:VEVENT
BEGIN:VEVENT
DTSTART;VALUE=DATE:20260119
DTEND;VALUE=DATE:20260301
DTSTAMP:20260422T235700
CREATED:20260131T211812Z
LAST-MODIFIED:20260131T212112Z
UID:4397-1768780800-1772323199@www.freiraum-balingen.de
SUMMARY:FREIRAUM für regionale Kunst Monique Baumann JAZZ TO SEE
DESCRIPTION:„Wenn ich im Jazzclub aktiv werde\, dann unter einer Bedingung: Ich darf an den Konzerten fotografieren“. Die positive Antwort war für mich ein Glücksfall und der Beginn einer wunderbaren fotografischen Möglichkeit: Sechs mal im Jahr habe ich die Gelegenheit\, die unterschiedlichsten Bands vor die Linse zu bekommen und damit ihre Musik nicht nur zu hören\, sondern förmlich zu sehen. \nVon Stück zu Stück sehe\, spüre\, erlebe ich mehr\, die Vibrations\, die Bewegungen\, die Interaktionen unter den MusikerInnen und den Instrumenten\, die Mimik und die Persönlichkeiten der MusikerInnen. Aus diesem Sehen und aus meiner Interaktion mit der Situation entstehen meine Bilder. Beim Bearbeiten am PC gebe ich ihnen den Ausdruck\, den mein inneres Auge gespeichert hat. Zum Teil in Farbe\, wie es der bunten Atmosphäre im Jazzclub entspricht\, zum Teil in Schwarz-weiß umgesetzt\, in der Tradition der klassischen Jazzfotografie. \nDie präsentierten Bilder zeigen einen Querschnitt durch diese fotografisch intensiven Jahre. Sie zeigen nicht in erster Linie technisch perfekte Bilder\, aber atmosphärisch dichte\, Porträts\, Instrumente und Detailaufnahmen. Und vielleicht wecken die Bilder beim Betrachten auch wieder die Musik und den Groove und der Kreis von Hören und Sehen kann sich schließen.
URL:https://www.freiraum-balingen.de/termine/freiraum-fuer-regionale-kunst-monique-baumann-jazz-to-see-2/
LOCATION:Blaues Haus\, Viehmarktplatz 1\, Balingen\, Baden-Württemberg\, Germany
CATEGORIES:FreiRaum für Regionale Kunst
ATTACH;FMTTYPE=image/jpeg:https://www.freiraum-balingen.de/wp-content/uploads/2026/01/20260125_110555-scaled.jpg
END:VEVENT
BEGIN:VEVENT
DTSTART;TZID=Europe/Berlin:20260122T190000
DTEND;TZID=Europe/Berlin:20260122T200000
DTSTAMP:20260422T235700
CREATED:20251026T095045Z
LAST-MODIFIED:20251115T211750Z
UID:4190-1769108400-1769112000@www.freiraum-balingen.de
SUMMARY:WILDCARD Wohnzimmer23
DESCRIPTION:WOHNZiMMER23! – das sind vier Saxophone und ein Schlagzeug\, fünf Freunde\, die ihre Leidenschaft für Musik teilen. Kennengelernt haben wir uns im Musikverein Endingen\, wo aus gemeinsamen Proben bald mehr wurde: die Idee\, eine kleine Band zu gründen\, die Musik macht\, wie man sie im gemütlichen Wohnzimmer hören möchte – entspannt\, ehrlich und mit viel Spielfreude. Als Hobbymusiker spielen wir ohne großen Schnickschnack\, dafür mit Herz\, Groove und einer guten Portion Spaß. Seit unserer Gründung im Jahr 2023 bringen wir mit unseren Saxophonen und groovigen Beats Wohnzimmer-Feeling auf jede Bühne. \nMit der Konzertreihe WILDCARD öffnen der Verein FREIRAUM – Balingen kreativ e. V. und die Zehntscheuer Balingen einen Raum für ungewöhnliche Klänge. Wer sich und seine Musik vor Publikum ausprobieren möchte\, findet hier die Gelegenheit. \nMehr zum Projekt
URL:https://www.freiraum-balingen.de/termine/wildcard/
LOCATION:Zehntscheuer Balingen\, Neue Str. 59\, Balingen\, 72336\, Deutschland
CATEGORIES:WILDCARD
ATTACH;FMTTYPE=image/jpeg:https://www.freiraum-balingen.de/wp-content/uploads/2025/10/wohnzimmer23.jpg
END:VEVENT
END:VCALENDAR