BEGIN:VCALENDAR
VERSION:2.0
PRODID:-//FREIRAUM - ECPv6.15.18//NONSGML v1.0//EN
CALSCALE:GREGORIAN
METHOD:PUBLISH
X-ORIGINAL-URL:https://www.freiraum-balingen.de
X-WR-CALDESC:Veranstaltungen für FREIRAUM
REFRESH-INTERVAL;VALUE=DURATION:PT1H
X-Robots-Tag:noindex
X-PUBLISHED-TTL:PT1H
BEGIN:VTIMEZONE
TZID:Europe/Berlin
BEGIN:DAYLIGHT
TZOFFSETFROM:+0100
TZOFFSETTO:+0200
TZNAME:CEST
DTSTART:20240331T010000
END:DAYLIGHT
BEGIN:STANDARD
TZOFFSETFROM:+0200
TZOFFSETTO:+0100
TZNAME:CET
DTSTART:20241027T010000
END:STANDARD
BEGIN:DAYLIGHT
TZOFFSETFROM:+0100
TZOFFSETTO:+0200
TZNAME:CEST
DTSTART:20250330T010000
END:DAYLIGHT
BEGIN:STANDARD
TZOFFSETFROM:+0200
TZOFFSETTO:+0100
TZNAME:CET
DTSTART:20251026T010000
END:STANDARD
BEGIN:DAYLIGHT
TZOFFSETFROM:+0100
TZOFFSETTO:+0200
TZNAME:CEST
DTSTART:20260329T010000
END:DAYLIGHT
BEGIN:STANDARD
TZOFFSETFROM:+0200
TZOFFSETTO:+0100
TZNAME:CET
DTSTART:20261025T010000
END:STANDARD
BEGIN:DAYLIGHT
TZOFFSETFROM:+0100
TZOFFSETTO:+0200
TZNAME:CEST
DTSTART:20270328T010000
END:DAYLIGHT
BEGIN:STANDARD
TZOFFSETFROM:+0200
TZOFFSETTO:+0100
TZNAME:CET
DTSTART:20271031T010000
END:STANDARD
END:VTIMEZONE
BEGIN:VEVENT
DTSTART;VALUE=DATE:20251201
DTEND;VALUE=DATE:20260201
DTSTAMP:20260422T235736
CREATED:20251231T104540Z
LAST-MODIFIED:20251231T105932Z
UID:4355-1764547200-1769903999@www.freiraum-balingen.de
SUMMARY:FREIRAUM für regionale Kunst Hatsune Dreher-Shimoda
DESCRIPTION:Hatsune Dreher-Shimoda\, in Japan geboren\, lebt seit 2010 in Deutschland und wohnt aktuell in Tieringen. Ihr Interesse am Zeichnen begann bereits in ihrer Kindheit\, soweit sie sich erinnern kann. Sie liebt Begegnungen mit Menschen und erkennt das Schöne in jedem Menschen. Die Porträts in der Ausstellung zeigen in ihrer Detailgenauigkeit nicht nur die äußere Schönheit der dargestellten Personen\, sondern auch die individuelle Geschichte dahinter. \nSie nutzt digitale Werkzeuge und kombiniert damit analoge Handarbeit wie Aquarelltechnik oder Bleistiftzeichnung mit grafischer Gestaltung. Das Ergebnis ist „Kunst für jede*n“. \nDie Porträt-Serie „Frauen“\, die speziell für die Ausstellung im Friseursalon jung.friseur entstanden ist und nur dort im Original zu sehen ist\, zeigt die Einzigartigkeit jeder Frau. Hatsune Dreher-Shimoda hat ein feines Gespür dafür\, die Persönlichkeit aus ihren „Modellen“ herauszulesen und künstlerisch darzustellen. \nFür weitere Informationen zur Porträtbestellung kontaktieren Sie die Künstlerin gerne\, oder besuchen Sie ihre Website:\nhatsunedreher@gmail.com\nwww.hatsunedreher.com \n 
URL:https://www.freiraum-balingen.de/termine/freiraum-fuer-regionale-kunst-hatsune-dreher-shimoda/
LOCATION:jung.friseur\, Kameralamtstr. 6\, Balingen\, Baden-Württemberg\, 72336\, Germany
CATEGORIES:FreiRaum für Regionale Kunst
ATTACH;FMTTYPE=image/jpeg:https://www.freiraum-balingen.de/wp-content/uploads/2025/12/Portraet-Serie-1.jpg-scaled.jpg
END:VEVENT
END:VCALENDAR