BEGIN:VCALENDAR
VERSION:2.0
PRODID:-//FREIRAUM - ECPv6.15.18//NONSGML v1.0//EN
CALSCALE:GREGORIAN
METHOD:PUBLISH
X-WR-CALNAME:FREIRAUM
X-ORIGINAL-URL:https://www.freiraum-balingen.de
X-WR-CALDESC:Veranstaltungen für FREIRAUM
REFRESH-INTERVAL;VALUE=DURATION:PT1H
X-Robots-Tag:noindex
X-PUBLISHED-TTL:PT1H
BEGIN:VTIMEZONE
TZID:Europe/Berlin
BEGIN:DAYLIGHT
TZOFFSETFROM:+0100
TZOFFSETTO:+0200
TZNAME:CEST
DTSTART:20240331T010000
END:DAYLIGHT
BEGIN:STANDARD
TZOFFSETFROM:+0200
TZOFFSETTO:+0100
TZNAME:CET
DTSTART:20241027T010000
END:STANDARD
BEGIN:DAYLIGHT
TZOFFSETFROM:+0100
TZOFFSETTO:+0200
TZNAME:CEST
DTSTART:20250330T010000
END:DAYLIGHT
BEGIN:STANDARD
TZOFFSETFROM:+0200
TZOFFSETTO:+0100
TZNAME:CET
DTSTART:20251026T010000
END:STANDARD
BEGIN:DAYLIGHT
TZOFFSETFROM:+0100
TZOFFSETTO:+0200
TZNAME:CEST
DTSTART:20260329T010000
END:DAYLIGHT
BEGIN:STANDARD
TZOFFSETFROM:+0200
TZOFFSETTO:+0100
TZNAME:CET
DTSTART:20261025T010000
END:STANDARD
END:VTIMEZONE
BEGIN:VEVENT
DTSTART;VALUE=DATE:20250810
DTEND;VALUE=DATE:20250908
DTSTAMP:20260423T060352
CREATED:20250716T214325Z
LAST-MODIFIED:20250813T055534Z
UID:3954-1754784000-1757289599@www.freiraum-balingen.de
SUMMARY:FREIRAUM für regionale Kunst Angie Jung und Baba Cham
DESCRIPTION:Im Blauen Haus treffen derzeit zwei außergewöhnliche künstlerische Positionen aufeinander: die deutsche Fotorealistin Angela Jung und der aus Gambia stammende Geschichtenerzähler in Farbe Baba Cham. Gemeinsam erschaffen sie Werke\, in denen präzise\, fotorealistische Malerei auf verspielte\, detailreiche Symbolik trifft. Aus dieser Verbindung von Wirklichkeit und Fantasie entstehen Bilder\, die Grenzen überschreiten und neue Geschichten eröffnen – eine visuelle Begegnung zweier Kulturen in einem einzigen Werk. \nIhr gemeinsames Symbol ist das „Herz“ – Sinnbild für Menschlichkeit\, Verbindung und universelle Emotion. In den gemeinsamen Arbeiten wird es zum roten Faden\, der Realismus und Farbpoesie miteinander verknüpft. Im Schaufenster des blauen Hauses wird dieser kreative Dialog für Passantinnen und Passanten unmittelbar sichtbar: Kunst als Brücke zwischen Menschen\, Orten und Kulturen. \nMit der Schaufenster-Galerie folgen wir unserem Leitgedanken: Kunst muss zu den Menschen kommen\, nicht umgekehrt. \nMehr zum Projekt
URL:https://www.freiraum-balingen.de/termine/freiraum-fuer-regionale-kunst-angie-jung-und-baba-cham/
LOCATION:Blaues Haus\, Viehmarktplatz 1\, Balingen\, Baden-Württemberg\, Germany
CATEGORIES:FreiRaum für Regionale Kunst
ATTACH;FMTTYPE=image/jpeg:https://www.freiraum-balingen.de/wp-content/uploads/2025/08/Angie-Baba-0344-1920px.jpg
END:VEVENT
BEGIN:VEVENT
DTSTART;VALUE=DATE:20250830
DTEND;VALUE=DATE:20251011
DTSTAMP:20260423T060352
CREATED:20250831T172033Z
LAST-MODIFIED:20250914T205308Z
UID:4034-1756512000-1760140799@www.freiraum-balingen.de
SUMMARY:FREIRAUM für regionale Kunst Lorenz Bögle
DESCRIPTION:Herrenmühlstraße 2 – Lorenz Bögle (1989) studierte zunächst Kunstgeschichte und Jura an der Eberhard Karls Universität Tübingen\, bevor er 2012–2018 an der Staatlichen Akademie der Bildenden Künste Karlsruhe Malerei studierte und dort Meisterschüler wurde. Seit 2018 betreibt er die Galerie U 108 in München\, mit Dependancen in Mannheim und Zollernalb. Sein Werk bewegt sich zwischen Malerei\, Zeichnung\, Installation und Objektkunst – oft mit einer leisen lyrischen Handschrift\, die Erinnerung\, Geheimnis und Zeitgeist ineinander verschränkt. \nDie Ausstellung RETROSPEKTIV versammelt prägende Arbeiten der letzten Jahre – ein vielschichtiges Panorama künstlerischer Forschung und poetischer Weltsicht.
URL:https://www.freiraum-balingen.de/termine/freiraum-fuer-regionale-kunst-lorenz-boegele/
LOCATION:Herrenmühlenstraße\, Herrenmühlenstraße 2\, Balingen\, Baden-Württemberg\, 72336\, Germany
CATEGORIES:FreiRaum für Regionale Kunst
ATTACH;FMTTYPE=image/jpeg:https://www.freiraum-balingen.de/wp-content/uploads/2025/09/20250829_190257-scaled.jpg
END:VEVENT
END:VCALENDAR