BEGIN:VCALENDAR
VERSION:2.0
PRODID:-//FREIRAUM - ECPv6.15.18//NONSGML v1.0//EN
CALSCALE:GREGORIAN
METHOD:PUBLISH
X-WR-CALNAME:FREIRAUM
X-ORIGINAL-URL:https://www.freiraum-balingen.de
X-WR-CALDESC:Veranstaltungen für FREIRAUM
REFRESH-INTERVAL;VALUE=DURATION:PT1H
X-Robots-Tag:noindex
X-PUBLISHED-TTL:PT1H
BEGIN:VTIMEZONE
TZID:Europe/Berlin
BEGIN:DAYLIGHT
TZOFFSETFROM:+0100
TZOFFSETTO:+0200
TZNAME:CEST
DTSTART:20240331T010000
END:DAYLIGHT
BEGIN:STANDARD
TZOFFSETFROM:+0200
TZOFFSETTO:+0100
TZNAME:CET
DTSTART:20241027T010000
END:STANDARD
BEGIN:DAYLIGHT
TZOFFSETFROM:+0100
TZOFFSETTO:+0200
TZNAME:CEST
DTSTART:20250330T010000
END:DAYLIGHT
BEGIN:STANDARD
TZOFFSETFROM:+0200
TZOFFSETTO:+0100
TZNAME:CET
DTSTART:20251026T010000
END:STANDARD
BEGIN:DAYLIGHT
TZOFFSETFROM:+0100
TZOFFSETTO:+0200
TZNAME:CEST
DTSTART:20260329T010000
END:DAYLIGHT
BEGIN:STANDARD
TZOFFSETFROM:+0200
TZOFFSETTO:+0100
TZNAME:CET
DTSTART:20261025T010000
END:STANDARD
END:VTIMEZONE
BEGIN:VEVENT
DTSTART;VALUE=DATE:20250701
DTEND;VALUE=DATE:20250816
DTSTAMP:20260423T073843
CREATED:20250710T181633Z
LAST-MODIFIED:20250710T181708Z
UID:3929-1751328000-1755302399@www.freiraum-balingen.de
SUMMARY:FREIRAUM für regionale Kunst Barbara Irion
DESCRIPTION:Barbara Irion lebt seit 1965 in Balingen. Ihre Liebe zur Kunst entdeckte sie schon früh – ein Weg\, der sie schließlich an die Modeschule Stuttgart führte\, wo sie ihr Studium als Diplomdesignerin abschloss. Nach Jahren\, in denen Familie und Beruf im Vordergrund standen\, fand sie 1998 zurück zur künstlerischen Arbeit. Seitdem geht sie ihren ganz eigenen Weg: mal figürlich und nah am Realismus\, mal skizzenhaft und frei\, zuletzt zunehmend abstrakt und materialbetont. \nIhre aktuelle Ausstellung im Schaufenster der Herrenmühlstraße ist ein Ausdruck dieser Entwicklung – und zugleich ein Aufbruch. In der Kunstakademie Gaienhofen experimentierte sie mit ungewohnten Materialien: Sand\, Asche\, Bitumen\, Acryl und alte Schriften treffen in ihren neuen Arbeiten auf persönliche Fragmente\, darunter ein Stück ihrer eigenen Ahnenrolle. \nEntstanden sind Bilder von tiefer Textur und stiller Intensität – abstrakte Räume zwischen Erinnerung und Zukunft. Die Ausstellung lädt ein zum Innehalten und Nachspüren\, mitten im urbanen Raum von Balingen. \nMit der Schaufenster-Galerie folgen wir unserem Leitgedanken: Kunst muss zu den Menschen kommen\, nicht umgekehrt. \nMehr zum Projekt
URL:https://www.freiraum-balingen.de/termine/freiraum-fuer-regionale-kunst-barbara-irion-2/
LOCATION:Herrenmühlenstraße\, Herrenmühlenstraße 2\, Balingen\, Baden-Württemberg\, 72336\, Germany
CATEGORIES:FreiRaum für Regionale Kunst
ATTACH;FMTTYPE=image/jpeg:https://www.freiraum-balingen.de/wp-content/uploads/2025/07/25-irion-0304-1920px.jpg
END:VEVENT
BEGIN:VEVENT
DTSTART;VALUE=DATE:20250720
DTEND;VALUE=DATE:20250811
DTSTAMP:20260423T073843
CREATED:20250714T060456Z
LAST-MODIFIED:20250803T120822Z
UID:3942-1752969600-1754870399@www.freiraum-balingen.de
SUMMARY:FREIRAUM für regionale Kunst Wolfgang Heiner Bitzer
DESCRIPTION:Kunst zwischen Element und Struktur \nWolfgang Heiner Bitzer\, 1958 in Albstadt-Tailfingen geboren\, fand seinen Weg zur Kunst über Begegnungen mit Künstlerinnen und Künstlern und einen offenen\, forschenden Blick auf Material und Welt.  \nSeit den 1980er Jahren arbeitet er mit GFK (Fiberglas)\, einem industriellen Werkstoff\, den er in reflektierende\, oft leise sprechende Formen überführt. Seine Werke verbinden Technik und Natur\, Designgeschichte und freie Kunstpraxis. \nIm Mittelpunkt seiner aktuellen Werkzyklen steht das Periodensystem der Elemente – 118 Bausteine des Lebens\, die Bitzer als visuelle Ordnung\, gestalterisches Fundament und inhaltliche Spurensuche nutzt. \nSeine Arbeiten sind präzise und offen zugleich. Sie laden ein\, in den Spannungsfeldern zwischen Materie und Bedeutung\, Vergangenheit und Zukunft zu denken. \nAusstellung in der FREIRAUM Schaufenster-Galerie im Blauen Haus in Balingen – ab dem 20.07. nach 16:00 Uhr  \nMit der Schaufenster-Galerie folgen wir unserem Leitgedanken: Kunst muss zu den Menschen kommen\, nicht umgekehrt. \nMehr zum Projekt
URL:https://www.freiraum-balingen.de/termine/freiraum-fuer-regionale-kunst-wolfgang-heiner-bitzer/
LOCATION:Blaues Haus\, Viehmarktplatz 1\, Balingen\, Baden-Württemberg\, Germany
CATEGORIES:FreiRaum für Regionale Kunst
ATTACH;FMTTYPE=image/jpeg:https://www.freiraum-balingen.de/wp-content/uploads/2025/07/Wolfgang-Heiner-Bitzer-scaled.jpeg
END:VEVENT
END:VCALENDAR