BEGIN:VCALENDAR
VERSION:2.0
PRODID:-//FREIRAUM - ECPv6.15.18//NONSGML v1.0//EN
CALSCALE:GREGORIAN
METHOD:PUBLISH
X-ORIGINAL-URL:https://www.freiraum-balingen.de
X-WR-CALDESC:Veranstaltungen für FREIRAUM
REFRESH-INTERVAL;VALUE=DURATION:PT1H
X-Robots-Tag:noindex
X-PUBLISHED-TTL:PT1H
BEGIN:VTIMEZONE
TZID:Europe/Berlin
BEGIN:DAYLIGHT
TZOFFSETFROM:+0100
TZOFFSETTO:+0200
TZNAME:CEST
DTSTART:20240331T010000
END:DAYLIGHT
BEGIN:STANDARD
TZOFFSETFROM:+0200
TZOFFSETTO:+0100
TZNAME:CET
DTSTART:20241027T010000
END:STANDARD
BEGIN:DAYLIGHT
TZOFFSETFROM:+0100
TZOFFSETTO:+0200
TZNAME:CEST
DTSTART:20250330T010000
END:DAYLIGHT
BEGIN:STANDARD
TZOFFSETFROM:+0200
TZOFFSETTO:+0100
TZNAME:CET
DTSTART:20251026T010000
END:STANDARD
BEGIN:DAYLIGHT
TZOFFSETFROM:+0100
TZOFFSETTO:+0200
TZNAME:CEST
DTSTART:20260329T010000
END:DAYLIGHT
BEGIN:STANDARD
TZOFFSETFROM:+0200
TZOFFSETTO:+0100
TZNAME:CET
DTSTART:20261025T010000
END:STANDARD
END:VTIMEZONE
BEGIN:VEVENT
DTSTART;VALUE=DATE:20250101
DTEND;VALUE=DATE:20250401
DTSTAMP:20260423T180623
CREATED:20250201T141141Z
LAST-MODIFIED:20250305T124308Z
UID:3594-1735693200-1743386399@www.freiraum-balingen.de
SUMMARY:FREIRAUM für regionale Kunst Barbara Irion
DESCRIPTION:Barbara Irion lebt seit 1965 in Balingen. Bereits in der Jugend entdeckte sie ihre Liebe zu Kunst\, was auch die Berufswahl beeinflusste. Ihr Studium an der Modeschule Stuttgart schloss sie als Diplomdesignerin ab. Beruf und Familie ermöglichten erst 1998 wieder eine intensive Beschäftigung mit der Malerei. Mit dem Studienkurs „Bild“ an der Volkshochschule Balingen fand sie einen Wiedereinstieg ins freie kreative Schaffen. Das Hobby wurde schnell zur ambitionierten Leidenschaft. Durch Weiterbildung in verschiedenen Kursen erarbeitete sie sich die faszinierenden Möglichkeiten der Acrylmalerei und aktuell der Ölmalerei. \nIhre Bildmotive reichen vom naturalistischen Landschaftsbild und fotorealistischen Stillleben über skizzierende\, abstrahierende Akt- und Figurenmalerei bis zu surrealen Traumbildern. \nWer freie Schaufenster gerne für „FREIRAUM für regionale Kunst“ zur Verfügung stellen möchte\, kann sich gerne bei kreativ@freiraum-balingen.de melden. \nMit der Schaufenster-Galerie folgen wir unserem Leitgedanken: Kunst muss zu den Menschen kommen\, nicht umgekehrt. \nMehr zum Projekt\n 
URL:https://www.freiraum-balingen.de/termine/freiraum-fuer-regionale-kunst-barbara-irion/
LOCATION:Herrenmühlenstraße\, Herrenmühlenstraße 2\, Balingen\, Baden-Württemberg\, 72336\, Germany
CATEGORIES:FreiRaum für Regionale Kunst
ATTACH;FMTTYPE=image/jpeg:https://www.freiraum-balingen.de/wp-content/uploads/2025/02/1000005839-scaled.jpg
END:VEVENT
BEGIN:VEVENT
DTSTART;VALUE=DATE:20250330
DTEND;VALUE=DATE:20250502
DTSTAMP:20260423T180623
CREATED:20250326T163344Z
LAST-MODIFIED:20250412T111635Z
UID:3673-1743296400-1746064799@www.freiraum-balingen.de
SUMMARY:FREIRAUM für regionale Kunst ARTenvielfalt
DESCRIPTION:Ab dem 30. März bis zum 30. April 2025 präsentiert das Künstler-Paar Kati Kanniga und Matthias Klose-Kanniga\, bekannt als ARTenvielfalt\, ihre einzigartigen Werke im blauen Haus in Balingen. Beide sind Garten- und Landschaftsbauer aus Geislingen-Binsdorf\, die ihre Leidenschaft für Natur\, Farben und Materialien in ihre Kunst integrieren. Ihre Arbeiten inspirieren dazu\, Natur und Kreativität sowohl im großen als auch im kleinen Rahmen zuzulassen. \nDas Duo setzt auf Hoffnung und Zuversicht statt Schwarzmalerei und möchte Menschen ermutigen\, die Vielfalt der Natur zu schätzen und zu fördern. Ihre Philosophie der ARTenvielfalt spiegelt sich in ihren Werken wider\, die Menschen und Insekten gleichermaßen willkommen heißen. Mit ihrer Teilnahme an renommierten Veranstaltungen sowie durch zahlreiche Ausstellungen und Straßenmalerei mit Kindern haben sie bereits viele begeistert. \nWer freie Schaufenster gerne für „FREIRAUM für regionale Kunst“ zur Verfügung stellen möchte\, kann sich gerne bei kreativ@freiraum-balingen.de melden. \nMit der Schaufenster-Galerie folgen wir unserem Leitgedanken: Kunst muss zu den Menschen kommen\, nicht umgekehrt. \nMehr zum Projekt\n 
URL:https://www.freiraum-balingen.de/termine/freiraum-fuer-regionale-kunst-artenvielfalt/
LOCATION:Blaues Haus\, Viehmarktplatz 1\, Balingen\, Baden-Württemberg\, Germany
CATEGORIES:FreiRaum für Regionale Kunst
ATTACH;FMTTYPE=image/jpeg:https://www.freiraum-balingen.de/wp-content/uploads/2025/03/Bild-26.03.25-um-18.33.jpg
END:VEVENT
END:VCALENDAR